BEGIN:VCALENDAR
VERSION:2.0
PRODID:-//Department Of Education//ae24fea5-ab98-4f0d-953b-88008780a3ff
BEGIN:VTIMEZONE
TZID:Australia/Sydney
TZURL:http://tzurl.org/zoneinfo-outlook/Australia/Sydney
X-LIC-LOCATION:Australia/Sydney
BEGIN:STANDARD
TZOFFSETFROM:+1100
TZOFFSETTO:+1000
TZNAME:AEST
DTSTART:19700405T030000
RRULE:FREQ=YEARLY;BYMONTH=4;BYDAY=1SU
END:STANDARD
BEGIN:DAYLIGHT
TZOFFSETFROM:+1000
TZOFFSETTO:+1100
TZNAME:AEDT
DTSTART:19701004T020000
RRULE:FREQ=YEARLY;BYMONTH=10;BYDAY=1SU
END:DAYLIGHT
END:VTIMEZONE
CALSCALE:GREGORIAN
X-WR-TIMEZONE:Australia/Sydney
BEGIN:VEVENT
DTSTART;VALUE=DATE:20200309
DTEND;VALUE=DATE:20200310
DTSTAMP:20200309T000000Z
UID:a8189a3a-9e8c-4482-a44e-fba7338ae6c7
LOCATION:Walbundrie Public School
SUMMARY;LANGUAGE=en-us:School Library
RRULE:FREQ=WEEKLY;INTERVAL=2;UNTIL=20200424;
SEQUENCE:0
DESCRIPTION:School Library
END:VEVENT
TRANSP:TRANSPARENT
END:VCALENDAR
